BEGIN:VCALENDAR
VERSION:2.0
PRODID:-//Greater Harrisburg Association of REALTORS® - ECPv6.15.20//NONSGML v1.0//EN
CALSCALE:GREGORIAN
METHOD:PUBLISH
X-ORIGINAL-URL:https://ghar.realtor
X-WR-CALDESC:Events for Greater Harrisburg Association of REALTORS®
REFRESH-INTERVAL;VALUE=DURATION:PT1H
X-Robots-Tag:noindex
X-PUBLISHED-TTL:PT1H
BEGIN:VTIMEZONE
TZID:America/New_York
BEGIN:DAYLIGHT
TZOFFSETFROM:-0500
TZOFFSETTO:-0400
TZNAME:EDT
DTSTART:20250309T070000
END:DAYLIGHT
BEGIN:STANDARD
TZOFFSETFROM:-0400
TZOFFSETTO:-0500
TZNAME:EST
DTSTART:20251102T060000
END:STANDARD
BEGIN:DAYLIGHT
TZOFFSETFROM:-0500
TZOFFSETTO:-0400
TZNAME:EDT
DTSTART:20260308T070000
END:DAYLIGHT
BEGIN:STANDARD
TZOFFSETFROM:-0400
TZOFFSETTO:-0500
TZNAME:EST
DTSTART:20261101T060000
END:STANDARD
BEGIN:DAYLIGHT
TZOFFSETFROM:-0500
TZOFFSETTO:-0400
TZNAME:EDT
DTSTART:20270314T070000
END:DAYLIGHT
BEGIN:STANDARD
TZOFFSETFROM:-0400
TZOFFSETTO:-0500
TZNAME:EST
DTSTART:20271107T060000
END:STANDARD
END:VTIMEZONE
BEGIN:VEVENT
DTSTART;TZID=America/New_York:20260720T173000
DTEND;TZID=America/New_York:20260720T223000
DTSTAMP:20260420T053116
CREATED:20260316T125548Z
LAST-MODIFIED:20260316T125550Z
UID:10002163-1784568600-1784586600@ghar.realtor
SUMMARY:Real Estate Fundamentals
DESCRIPTION:
URL:https://ghar.realtor/event/real-estate-fundamentals-4/2026-07-20/
LOCATION:Classroom @ GHAR\, 424 North Enola Drive\, Suite 1\, Enola\, PA\, 17025\, United States
CATEGORIES:Courses
END:VEVENT
BEGIN:VEVENT
DTSTART;TZID=America/New_York:20260721T173000
DTEND;TZID=America/New_York:20260721T223000
DTSTAMP:20260420T053116
CREATED:20260316T125548Z
LAST-MODIFIED:20260316T125550Z
UID:10002164-1784655000-1784673000@ghar.realtor
SUMMARY:Real Estate Fundamentals
DESCRIPTION:
URL:https://ghar.realtor/event/real-estate-fundamentals-4/2026-07-21/
LOCATION:Classroom @ GHAR\, 424 North Enola Drive\, Suite 1\, Enola\, PA\, 17025\, United States
CATEGORIES:Courses
END:VEVENT
BEGIN:VEVENT
DTSTART;TZID=America/New_York:20260723T100000
DTEND;TZID=America/New_York:20260723T110000
DTSTAMP:20260420T053116
CREATED:20251222T173904Z
LAST-MODIFIED:20251222T173907Z
UID:10002126-1784800800-1784804400@ghar.realtor
SUMMARY:Bright MLS Webinar
DESCRIPTION:
URL:https://ghar.realtor/event/bright-mls-webinar-6/
END:VEVENT
BEGIN:VEVENT
DTSTART;TZID=America/New_York:20260723T173000
DTEND;TZID=America/New_York:20260723T223000
DTSTAMP:20260420T053116
CREATED:20260316T125548Z
LAST-MODIFIED:20260316T125550Z
UID:10002165-1784827800-1784845800@ghar.realtor
SUMMARY:Real Estate Fundamentals
DESCRIPTION:
URL:https://ghar.realtor/event/real-estate-fundamentals-4/2026-07-23/
LOCATION:Classroom @ GHAR\, 424 North Enola Drive\, Suite 1\, Enola\, PA\, 17025\, United States
CATEGORIES:Courses
END:VEVENT
END:VCALENDAR